BEGIN:VCALENDAR
VERSION:2.0
PRODID:-//ChamberMaster//Event Calendar 2.0//EN
METHOD:PUBLISH
X-PUBLISHED-TTL:P3D
REFRESH-INTERVAL:P3D
CALSCALE:GREGORIAN
BEGIN:VEVENT
DTSTART:20260430T130000Z
DTEND:20260430T150000Z
X-MICROSOFT-CDO-ALLDAYEVENT:FALSE
SUMMARY:Community Lenders Roundtable
DESCRIPTION:The Greater Gainesville Chamber of Commerce\, in partnership with the U.S. Small Business Administration\, invites you to participate in an upcoming Commercial Lenders Roundtable.\n\nThis session is designed exclusively for commercial lenders in the Gainesville area to foster stronger relationships\, share best practices\, and collaborate on strategies to better serve our small business community.\n\nWhy attend?\n\n\n	Network with fellow lenders in the region\n	Exchange insights on current lending trends\n	Discuss opportunities to improve access to capital\n	Provide input on how we can better support entrepreneurs\n\nWe believe your perspective is critical to strengthening our local economy\, and we would greatly value your participation.\n\n\n\nPlease confirm your attendance: POC Rosalind Gibson at rosalind.gibson@sba.gov
X-ALT-DESC;FMTTYPE=text/html:<p data-end="1578" data-start="1396" style="caret-color: rgb(0\, 0\, 0)\; color: rgb(0\, 0\, 0)\;">The&nbsp\;<span class="hover:entity-accent entity-underline inline cursor-pointer align-baseline">Greater Gainesville Chamber of Commerce</span>\, in partnership with the&nbsp\;<span class="hover:entity-accent entity-underline inline cursor-pointer align-baseline">U.S. Small Business Administration</span>\, invites you to participate in an upcoming&nbsp\;<strong data-end="1577" data-start="1544">Commercial Lenders Roundtable</strong>.</p>\n\n<p data-end="1795" data-start="1580" style="caret-color: rgb(0\, 0\, 0)\; color: rgb(0\, 0\, 0)\;">This session is designed exclusively for commercial lenders in the Gainesville area to foster stronger relationships\, share best practices\, and collaborate on strategies to better serve our small business community.</p>\n\n<p data-end="1812" data-start="1797" style="caret-color: rgb(0\, 0\, 0)\; color: rgb(0\, 0\, 0)\;"><strong data-end="1812" data-start="1797">Why attend?</strong></p>\n\n<ul data-end="2022" data-start="1813" style="caret-color: rgb(0\, 0\, 0)\; color: rgb(0\, 0\, 0)\;">\n	<li data-end="1858" data-section-id="1bq9e9a" data-start="1813">Network with fellow lenders in the region</li>\n	<li data-end="1906" data-section-id="1nphwpj" data-start="1859">Exchange insights on current lending trends</li>\n	<li data-end="1961" data-section-id="y9v82r" data-start="1907">Discuss opportunities to improve access to capital</li>\n	<li data-end="2022" data-section-id="llxo7h" data-start="1962">Provide input on how we can better support entrepreneurs</li>\n</ul>\n<span style="caret-color: rgb(0\, 0\, 0)\; color: rgb(0\, 0\, 0)\; font-size: medium\;">We believe your perspective is critical to strengthening our local economy\, and we would greatly value your participation.</span><br />\n<br />\nPlease confirm your attendance: POC Rosalind Gibson at rosalind.gibson@sba.gov
LOCATION:Greater Gainesville Chamber of Commerce 300 E. University Avenue Suite 100 Gainesville\, Florida 32601
UID:e.1555.39517
SEQUENCE:3
DTSTAMP:20260420T025728Z
URL:https://members.gainesvillechamber.com/events/details/community-lenders-roundtable-39517
END:VEVENT

END:VCALENDAR
