BEGIN:VCALENDAR
VERSION:2.0
PRODID:-//ChamberMaster//Event Calendar 2.0//EN
METHOD:PUBLISH
X-PUBLISHED-TTL:P3D
REFRESH-INTERVAL:P3D
CALSCALE:GREGORIAN
BEGIN:VEVENT
DTSTART:20260508T230000Z
DTEND:20260509T010000Z
X-MICROSOFT-CDO-ALLDAYEVENT:FALSE
SUMMARY:Florida College Decision Day 2026
DESCRIPTION:The 2026 Florida College Decision Day celebration hosted by the Greater Gainesville Chamber Foundation.\n\nJoin us as we celebrate the Class of 2026 and their next steps toward college\, technical school\, military service\, or career pathways. This is a powerful community moment recognizing the hard work and bright futures of our graduating seniors.\n\n\n\nThis event honors students committing to:\n\n  4-year colleges and universities\n\n  2-year institutions\n\n  Technical and trade schools\n\n  Military service\n\n\n\nThis event honors students committing to:\n\n  4-year colleges and universities\n\n  2-year institutions\n\n  Technical and trade schools\n\n  Military service
X-ALT-DESC;FMTTYPE=text/html:<p class="isSelectedEnd" style="caret-color: rgb(0\, 0\, 0)\; color: rgb(0\, 0\, 0)\;">The 2026 Florida College Decision Day celebration hosted by the Greater Gainesville Chamber Foundation.</p>\n\n<p style="caret-color: rgb(0\, 0\, 0)\; color: rgb(0\, 0\, 0)\;">Join us as we celebrate the Class of 2026 and their next steps toward college\, technical school\, military service\, or career pathways. This is a powerful community moment recognizing the hard work and bright futures of our graduating seniors.<br />\n<br />\n<span style="caret-color: rgb(0\, 0\, 0)\; color: rgb(0\, 0\, 0)\;">This event honors students committing to:</span><br style="caret-color: rgb(0\, 0\, 0)\; color: rgb(0\, 0\, 0)\;" />\n<span style="caret-color: rgb(0\, 0\, 0)\; color: rgb(0\, 0\, 0)\;">&bull\; 4-year colleges and universities</span><br style="caret-color: rgb(0\, 0\, 0)\; color: rgb(0\, 0\, 0)\;" />\n<span style="caret-color: rgb(0\, 0\, 0)\; color: rgb(0\, 0\, 0)\;">&bull\; 2-year institutions</span><br style="caret-color: rgb(0\, 0\, 0)\; color: rgb(0\, 0\, 0)\;" />\n<span style="caret-color: rgb(0\, 0\, 0)\; color: rgb(0\, 0\, 0)\;">&bull\; Technical and trade schools</span><br style="caret-color: rgb(0\, 0\, 0)\; color: rgb(0\, 0\, 0)\;" />\n<span style="caret-color: rgb(0\, 0\, 0)\; color: rgb(0\, 0\, 0)\;">&bull\; Military service<br />\n<br />\nThis event honors students committing to:</span><br style="caret-color: rgb(0\, 0\, 0)\; color: rgb(0\, 0\, 0)\;" />\n<span style="caret-color: rgb(0\, 0\, 0)\; color: rgb(0\, 0\, 0)\;">&bull\; 4-year colleges and universities</span><br style="caret-color: rgb(0\, 0\, 0)\; color: rgb(0\, 0\, 0)\;" />\n<span style="caret-color: rgb(0\, 0\, 0)\; color: rgb(0\, 0\, 0)\;">&bull\; 2-year institutions</span><br style="caret-color: rgb(0\, 0\, 0)\; color: rgb(0\, 0\, 0)\;" />\n<span style="caret-color: rgb(0\, 0\, 0)\; color: rgb(0\, 0\, 0)\;">&bull\; Technical and trade schools</span><br style="caret-color: rgb(0\, 0\, 0)\; color: rgb(0\, 0\, 0)\;" />\n<span style="caret-color: rgb(0\, 0\, 0)\; color: rgb(0\, 0\, 0)\;">&bull\; Military service</span></p>\n
LOCATION:Celebration Pointe 4949 Celebration Pointe Ave Gainesville\, FL 32608
UID:e.1555.39520
SEQUENCE:3
DTSTAMP:20260422T045814Z
URL:https://members.gainesvillechamber.com/events/details/florida-college-decision-day-2026-39520
END:VEVENT

END:VCALENDAR
