BEGIN:VCALENDAR
VERSION:2.0
PRODID:-//ChamberMaster//Event Calendar 2.0//EN
METHOD:PUBLISH
X-PUBLISHED-TTL:P3D
REFRESH-INTERVAL:P3D
CALSCALE:GREGORIAN
BEGIN:VEVENT
DTSTART:20260425T220000Z
DTEND:20260426T010000Z
X-MICROSOFT-CDO-ALLDAYEVENT:FALSE
SUMMARY:Free Community Celebration and Open House at HCA Florida Gainesville Hospital!
DESCRIPTION:Gainesville\, Fla.   HCA Florida Healthcare welcomes the community to a free\, family-friendly celebration and open house at HCA Florida Gainesville Hospital\, the first full-service hospital to open in the area in more than 50 years.\n\n \n\nThe hospital\, which is scheduled to begin seeing patients in May\, is hosting the community celebration April 25 from 6-9 p.m. Meet members of the hospital team and experience hospital tours\, live music\, local dance teams\, great food\, a petting zoo and activities for all ages\, plus a Grand Finale Extravaganza you won't want to miss!\n\n \n\nWHAT:          Free Community Celebration and Open House at HCA Florida Gainesville Hospital\n\n \n\nWHO:            All ages welcome!\n\n \n\nWHY:            HCA Florida Gainesville Hospital will be the first new full-service hospital to serve residents and visitors from the Gainesville area in more than 50 years\, and we'd love for our neighbors to help us celebrate!
X-ALT-DESC;FMTTYPE=text/html:<p style="font-size: 12pt\; margin: 0in\; caret-color: rgb(33\, 33\, 33)\; color: rgb(33\, 33\, 33)\; font-family: Aptos\, sans-serif\;"><span style="font-family: Arial\, sans-serif\;"><b><span class="outlook-search-highlight" data-markjs="true">Gainesville</span>\, Fla.</b>&nbsp\;&ndash\; HCA Florida Healthcare welcomes the community to a free\, family-friendly celebration and open house at HCA Florida&nbsp\;<span class="outlook-search-highlight" data-markjs="true">Gainesville</span>&nbsp\;Hospital\, the first full-service hospital to open in the area in more than 50 years.</span></p>\n\n<p style="font-size: 12pt\; margin: 0in\; caret-color: rgb(33\, 33\, 33)\; color: rgb(33\, 33\, 33)\; font-family: Aptos\, sans-serif\;"><span style="font-family: Arial\, sans-serif\;">&nbsp\;</span></p>\n\n<p style="font-size: 12pt\; margin: 0in\; caret-color: rgb(33\, 33\, 33)\; color: rgb(33\, 33\, 33)\; font-family: Aptos\, sans-serif\;"><span style="font-family: Arial\, sans-serif\;">The hospital\, which is scheduled to begin seeing patients in May\, is hosting the community celebration April 25 from 6-9 p.m. Meet members of the hospital team and experience hospital tours\, live music\, local dance teams\, great food\, a petting zoo and activities for all ages\, plus a Grand Finale Extravaganza you won&rsquo\;t want to miss!</span></p>\n\n<p style="font-size: 12pt\; margin: 0in\; caret-color: rgb(33\, 33\, 33)\; color: rgb(33\, 33\, 33)\; font-family: Aptos\, sans-serif\;"><span style="font-family: Arial\, sans-serif\;">&nbsp\;</span></p>\n\n<p style="font-size: 12pt\; margin: 0in 0in 0in 1in\; caret-color: rgb(33\, 33\, 33)\; color: rgb(33\, 33\, 33)\; text-indent: -1in\; font-family: Aptos\, sans-serif\;"><span style="font-family: Arial\, sans-serif\; color: rgb(224\, 89\, 41)\;"><b>WHAT:&nbsp\;</b></span><span style="font-family: Arial\, sans-serif\;">&nbsp\; &nbsp\; &nbsp\; &nbsp\; &nbsp\;Free Community Celebration and Open House at HCA Florida&nbsp\;<span class="outlook-search-highlight" data-markjs="true">Gainesville</span>&nbsp\;Hospital</span></p>\n\n<p style="font-size: 12pt\; margin: 0in 0in 0in 1in\; caret-color: rgb(33\, 33\, 33)\; color: rgb(33\, 33\, 33)\; text-indent: -1in\; font-family: Aptos\, sans-serif\;"><span style="font-family: Arial\, sans-serif\;">&nbsp\;</span></p>\n\n<p style="font-size: 12pt\; margin: 0in 0in 0in 1in\; caret-color: rgb(33\, 33\, 33)\; color: rgb(33\, 33\, 33)\; text-indent: -1in\; font-family: Aptos\, sans-serif\;"><span style="font-family: Arial\, sans-serif\; color: rgb(224\, 89\, 41)\;"><b>WHO:&nbsp\;&nbsp\;</b></span><span style="font-family: Arial\, sans-serif\;">&nbsp\; &nbsp\; &nbsp\; &nbsp\; &nbsp\; All ages welcome!</span></p>\n\n<p style="font-size: 12pt\; margin: 0in\; caret-color: rgb(33\, 33\, 33)\; color: rgb(33\, 33\, 33)\; font-family: Aptos\, sans-serif\;"><span style="font-family: Arial\, sans-serif\;">&nbsp\;</span></p>\n\n<p class="elementToProof" style="font-size: 12pt\; margin: 0in 0in 0in 1in\; caret-color: rgb(33\, 33\, 33)\; color: rgb(33\, 33\, 33)\; text-indent: -1in\; font-family: Aptos\, sans-serif\;"><span style="font-family: Arial\, sans-serif\; color: rgb(224\, 89\, 41)\;"><b>WHY:&nbsp\; &nbsp\; &nbsp\; &nbsp\; &nbsp\; &nbsp\;&nbsp\;</b></span><span style="font-family: Arial\, sans-serif\;">HCA Florida&nbsp\;<span class="outlook-search-highlight" data-markjs="true">Gainesville</span>&nbsp\;Hospital will be the first new full-service hospital to serve residents and visitors from the&nbsp\;<span class="outlook-search-highlight" data-markjs="true">Gainesville</span>&nbsp\;area in more than 50 years\, and we&rsquo\;d love for our neighbors to help us celebrate!&nbsp\;</span></p>\n
LOCATION:WHERE: HCA Florida Gainesville Hospital\, 4094 SW 41st Boulevard in Gainesville\, just off the Archer Road exit on I-75. Free parking is available at Celebration Pointe\, South Parking Garage\, floors 2-4. Shuttle buses will pick up adjacent to the south parking lot along SW 31st Lane and take guests to the event.
UID:e.1555.39518
SEQUENCE:3
DTSTAMP:20260420T034611Z
URL:https://members.gainesvillechamber.com/events/details/free-community-celebration-and-open-house-at-hca-florida-gainesville-hospital-39518
END:VEVENT

END:VCALENDAR
